BEGIN:VCALENDAR
VERSION:2.0
PRODID:-//Intand Corporation//Tandem//EN
METHOD:PUBLISH
BEGIN:VEVENT
DTSTAMP:20260424T104437Z
DTSTART:20200306T010000Z
DTEND:20200306T040000Z
TRANSP:TRANSPARENT
PRIORITY:0
SUMMARY:[Cancelled] BGSB Practice
LOCATION:Chinook Large Gym\, Chinook Small Gym
DESCRIPTION:BU# 34-9-29-19 BGSB\,  Contact is Darci Moreau c/425-281-2200\
 n\nGroups:\nBellevue Girls Select Basketball\n\nSchools:\nChinook Middle S
 chool\n\nLocations:\nChinook Large Gym\nChinook Small Gym\n\n
URL;VALUE=URI:http://bellevue.tandem.co/index.php?type=view&action=event&i
 d=266254
CREATED:20190822T153004Z
LAST-MODIFIED:20200305T225154Z
UID:event-266254-bellevue@intand.com
END:VEVENT
END:VCALENDAR
